BEGIN:VCALENDAR
VERSION:2.0
PRODID:-//STADTKULTUR HAMBURG//kultur-hamburg.de///DE
CALSCALE:GREGORIAN
BEGIN:VEVENT
X-WR-TIMEZONE:Europe/Berlin
DTSTART:20111121T103000
DTEND:20111121T113000
LOCATION:TASK Schauspielschule für Kinder und Jugendliche \, Stresemannstraße 163 (Neue Flora) \, 22769 Hamburg
DTSTAMP:20260423T001833
SUMMARY:KLANGZAUBER! Neuer Kurs für 1- bis 2-Jährige im SchauSpielgarten
URL;VALUE=URI:https://www.kultur-hamburg.de/kurse_workshops/klangzauber!-neuer-kurs-fuer-1-bis-2-jaehrige-im-schauspielgarten-35800
DESCRIPTION:Das gemeinsame Entdecken der wichtigsten Sinne steht im Mittelpunkt dieses Kurses.
UID:6e53dff61c6690f8b1c9f2e76a238406@kulturhamburg
END:VEVENT
END:VCALENDAR