BEGIN:VCALENDAR
VERSION:2.0
PRODID:-//STADTKULTUR HAMBURG//kultur-hamburg.de///DE
CALSCALE:GREGORIAN
BEGIN:VEVENT
X-WR-TIMEZONE:Europe/Berlin
DTSTART:20111128T103000
DTEND:20111128T113000
LOCATION:TASK Schauspielschule für Kinder und Jugendliche \, Stresemannstraße 163 (Neue Flora) \, 22769 Hamburg
DTSTAMP:20260422T222503
SUMMARY:KLANGZAUBER! Neuer Kurs für 1- bis 2-Jährige im SchauSpielgarten
URL;VALUE=URI:https://www.kultur-hamburg.de/kurse_workshops/klangzauber!-neuer-kurs-fuer-1-bis-2-jaehrige-im-schauspielgarten-35801
DESCRIPTION:Das gemeinsame Entdecken der wichtigsten Sinne steht im Mittelpunkt dieses Kurses.
UID:b080859608368d669493bb6b5bdf65f0@kulturhamburg
END:VEVENT
END:VCALENDAR