BEGIN:VCALENDAR
VERSION:2.0
PRODID:-//STADTKULTUR HAMBURG//kultur-hamburg.de///DE
CALSCALE:GREGORIAN
BEGIN:VEVENT
X-WR-TIMEZONE:Europe/Berlin
DTSTART:20111004T160000
DTEND:20111004T170000
LOCATION:TASK Schauspielschule für Kinder und Jugendliche \, Stresemannstraße 163 (Neue Flora) \, 22769 Hamburg
DTSTAMP:20260423T121529
SUMMARY:DSCHUNGELREISEN! Neuer Kurs für 2- bis 3-Jährige im SchauSpielgarten
URL;VALUE=URI:https://www.kultur-hamburg.de/kurse_workshops/dschungelreisen!-neuer-kurs-fuer-2-bis-3-jaehrige-im-schauspielgarten-35812
DESCRIPTION:In diesem Kurs schlüpfen die Kinder in ihre erste kleine Theaterrolle
UID:f186bebf47ee84bae567cb21cade7aae@kulturhamburg
END:VEVENT
END:VCALENDAR