BEGIN:VCALENDAR
VERSION:2.0
PRODID:-//STADTKULTUR HAMBURG//kultur-hamburg.de///DE
CALSCALE:GREGORIAN
BEGIN:VEVENT
X-WR-TIMEZONE:Europe/Berlin
DTSTART:20111122T160000
DTEND:20111122T170000
LOCATION:TASK Schauspielschule für Kinder und Jugendliche \, Stresemannstraße 163 (Neue Flora) \, 22769 Hamburg
DTSTAMP:20260423T001832
SUMMARY:DSCHUNGELREISEN! Neuer Kurs für 2- bis 3-Jährige im SchauSpielgarten
URL;VALUE=URI:https://www.kultur-hamburg.de/kurse_workshops/dschungelreisen!-neuer-kurs-fuer-2-bis-3-jaehrige-im-schauspielgarten-35819
DESCRIPTION:In diesem Kurs schlüpfen die Kinder in ihre erste kleine Theaterrolle
UID:26a53bf4ef67163c5760a8befb2656bf@kulturhamburg
END:VEVENT
END:VCALENDAR