BEGIN:VCALENDAR
VERSION:2.0
PRODID:-//STADTKULTUR HAMBURG//kultur-hamburg.de///DE
CALSCALE:GREGORIAN
BEGIN:VEVENT
X-WR-TIMEZONE:Europe/Berlin
DTSTART:20110903T120000
DTEND:20110903T150000
LOCATION:Bramfelder Kulturladen e. V. - BRAKULA \, Bramfelder Chaussee 265 \, 22177 Hamburg
DTSTAMP:20260425T205535
SUMMARY:Schminken
URL;VALUE=URI:https://www.kultur-hamburg.de/kurse_workshops/schminken-36547
DESCRIPTION:
UID:ec6c68022de8ce4f0cac2b786f64e1d1@kulturhamburg
END:VEVENT
END:VCALENDAR