BEGIN:VCALENDAR
VERSION:2.0
PRODID:-//STADTKULTUR HAMBURG//kultur-hamburg.de///DE
CALSCALE:GREGORIAN
BEGIN:VEVENT
X-WR-TIMEZONE:Europe/Berlin
DTSTART:20110915T190000
DTEND:20110915T210000
LOCATION:Bramfelder Kulturladen e. V. - BRAKULA \, Bramfelder Chaussee 265 \, 22177 Hamburg
DTSTAMP:20260425T173217
SUMMARY:Vortrag: Was soll sein, wenn ich nicht mehr bin ?
URL;VALUE=URI:https://www.kultur-hamburg.de/kurse_workshops/vortrag-was-soll-sein-wenn-ich-nicht-mehr-bin--36635
DESCRIPTION:
UID:a4bca5cc78ec3ecf5b821b02eef26e16@kulturhamburg
END:VEVENT
END:VCALENDAR