BEGIN:VCALENDAR
VERSION:2.0
PRODID:-//STADTKULTUR HAMBURG//kultur-hamburg.de///DE
CALSCALE:GREGORIAN
BEGIN:VEVENT
X-WR-TIMEZONE:Europe/Berlin
DTSTART:20190404T100000
DTEND:20190404T110000
LOCATION:FUNDUS THEATER \, Sievekingdamm 3 - Platz der Kinderrechte \, 20535 Hamburg
DTSTAMP:20260421T134456
SUMMARY:Drachen Probe
URL;VALUE=URI:https://www.kultur-hamburg.de/veranstaltungen/drachen-probe-368698
DESCRIPTION:Eine inszenierte Probe vom FUNDUS THEATER für Kinder ab 5 bis 12 Jahre
UID:acf0cb5561ce7a47666cdee2852b39e2@kulturhamburg
END:VEVENT
END:VCALENDAR