BEGIN:VCALENDAR
VERSION:2.0
PRODID:-//STADTKULTUR HAMBURG//kultur-hamburg.de///DE
CALSCALE:GREGORIAN
BEGIN:VEVENT
X-WR-TIMEZONE:Europe/Berlin
DTSTART:20190403T100000
DTEND:20190403T110000
LOCATION:FUNDUS THEATER \, Sievekingdamm 3 - Platz der Kinderrechte \, 20535 Hamburg
DTSTAMP:20260421T152157
SUMMARY:Drachen Probe
URL;VALUE=URI:https://www.kultur-hamburg.de/veranstaltungen/drachen-probe-368699
DESCRIPTION:Eine inszenierte Probe vom FUNDUS THEATER für Kinder ab 5 bis 12 Jahre
UID:ebcf1fbdb552a2f8470d48e85e1adc8f@kulturhamburg
END:VEVENT
END:VCALENDAR