BEGIN:VCALENDAR
VERSION:2.0
PRODID:-//STADTKULTUR HAMBURG//kultur-hamburg.de///DE
CALSCALE:GREGORIAN
BEGIN:VEVENT
X-WR-TIMEZONE:Europe/Berlin
DTSTART:20190402T100000
DTEND:20190402T110000
LOCATION:FUNDUS THEATER \, Sievekingdamm 3 - Platz der Kinderrechte \, 20535 Hamburg
DTSTAMP:20260421T170310
SUMMARY:Drachen Probe
URL;VALUE=URI:https://www.kultur-hamburg.de/veranstaltungen/drachen-probe-368700
DESCRIPTION:Eine inszenierte Probe vom FUNDUS THEATER für Kinder ab 5 bis 12 Jahre
UID:491cc2f1cebee9543ee801f2d25a8d02@kulturhamburg
END:VEVENT
END:VCALENDAR