BEGIN:VCALENDAR
VERSION:2.0
PRODID:-//STADTKULTUR HAMBURG//kultur-hamburg.de///DE
CALSCALE:GREGORIAN
BEGIN:VEVENT
X-WR-TIMEZONE:Europe/Berlin
DTSTART:20110827T130000
DTEND:20110827T180000
LOCATION:Kulturladen St.Georg e.V. \, Alexanderstr.16 \, 20099 Hamburg
DTSTAMP:20260425T224629
SUMMARY:"Grundlagen des Schauspiels"
URL;VALUE=URI:https://www.kultur-hamburg.de/kurse_workshops/grundlagen-des-schauspiels-37166
DESCRIPTION:„Grundlagen des Schauspiels“

Theorie, Sprechtraining, Rolle,
Improtheater für alle Interessierten, auch ohne Vorkenntnisse.
UID:3d7a2640bc10610af653a326590bd56a@kulturhamburg
END:VEVENT
END:VCALENDAR