BEGIN:VCALENDAR
VERSION:2.0
PRODID:-//STADTKULTUR HAMBURG//kultur-hamburg.de///DE
CALSCALE:GREGORIAN
BEGIN:VEVENT
X-WR-TIMEZONE:Europe/Berlin
DTSTART:20110802T100000
DTEND:20110806T180000
LOCATION:Hof \, Bert Kaempfert Platz/Museum der Arbeit \, 22305 Hamburg
DTSTAMP:20260426T040625
SUMMARY:Fluch der Kanäle – Die Flußpiraten
URL;VALUE=URI:https://www.kultur-hamburg.de/kurse_workshops/fluch-der-kanaele--die-flusspiraten-37206
DESCRIPTION:ein Erlebnis-Projekt für Kinder im Alter von 8-12 Jahre  
in Kooperation mit der Theater Jugend Hamburg
UID:4ac7673916c67456c713af553cf6cd5b@kulturhamburg
END:VEVENT
END:VCALENDAR