BEGIN:VCALENDAR
VERSION:2.0
PRODID:-//STADTKULTUR HAMBURG//kultur-hamburg.de///DE
CALSCALE:GREGORIAN
BEGIN:VEVENT
X-WR-TIMEZONE:Europe/Berlin
DTSTART:20110921T180000
DTEND:20110921T210000
LOCATION:KulturWerkstatt Harburg e.V. \, Kanalplatz 6 \, 21079 Hamburg
DTSTAMP:20260425T154844
SUMMARY:Kurs Fantasy-Bilder zeichnen
URL;VALUE=URI:https://www.kultur-hamburg.de/kurse_workshops/kurs-fantasy-bilder-zeichnen-37510
DESCRIPTION:
UID:3b8e08f1f7bdf8949dc165101d967b80@kulturhamburg
END:VEVENT
END:VCALENDAR