BEGIN:VCALENDAR
VERSION:2.0
PRODID:-//STADTKULTUR HAMBURG//kultur-hamburg.de///DE
CALSCALE:GREGORIAN
BEGIN:VEVENT
X-WR-TIMEZONE:Europe/Berlin
DTSTART:20110801T093000
DTEND:20110801T150000
LOCATION:ella Kulturhaus Langenhorn \, Käkenflur 30 (über Iserlohner Stieg) \, 22419 Hamburg
DTSTAMP:20260426T035356
SUMMARY:Zirkus-Workshop
URL;VALUE=URI:https://www.kultur-hamburg.de/kurse_workshops/zirkus-workshop-37519
DESCRIPTION:
UID:edd51028718ec4387d4a948807a16e7b@kulturhamburg
END:VEVENT
END:VCALENDAR