BEGIN:VCALENDAR
VERSION:2.0
PRODID:-//STADTKULTUR HAMBURG//kultur-hamburg.de///DE
CALSCALE:GREGORIAN
BEGIN:VEVENT
X-WR-TIMEZONE:Europe/Berlin
DTSTART:20110907T190000
DTEND:20111214T203000
LOCATION:Ev. Familienbildung Eppendorf \, Loogeplatz 14/16 \, 20249 Hamburg
DTSTAMP:20260425T191615
SUMMARY:Spanisch von Anfang an
URL;VALUE=URI:https://www.kultur-hamburg.de/kurse_workshops/spanisch-von-anfang-an-37826
DESCRIPTION:
UID:5df6b464ece20b4d34750eab5d9302cf@kulturhamburg
END:VEVENT
END:VCALENDAR