BEGIN:VCALENDAR
VERSION:2.0
PRODID:-//STADTKULTUR HAMBURG//kultur-hamburg.de///DE
CALSCALE:GREGORIAN
BEGIN:VEVENT
X-WR-TIMEZONE:Europe/Berlin
DTSTART:20110726T160000
DTEND:20110726T170000
LOCATION:TASK Schauspielschule für Kinder und Jugendliche \, Stresemannstraße 163 (Neue Flora) \, 22769 Hamburg
DTSTAMP:20260426T054754
SUMMARY:Piratentänze für 3- bis 4-Jährige  im SchauSpielgarten Hamburg
URL;VALUE=URI:https://www.kultur-hamburg.de/kurse_workshops/piratentaenze-fuer-3-bis-4-jaehrige-im-schauspielgarten-hamburg-38115
DESCRIPTION:Dieser Kurs fördert die Koordinationsfähigkeit mit viel Musik, Kindertanz & Theaterspiel und sinnlichen Erlebniswelten.
UID:1e259222ff1f524c92d594b9992d2a98@kulturhamburg
END:VEVENT
END:VCALENDAR