BEGIN:VCALENDAR
VERSION:2.0
PRODID:-//STADTKULTUR HAMBURG//kultur-hamburg.de///DE
CALSCALE:GREGORIAN
BEGIN:VEVENT
X-WR-TIMEZONE:Europe/Berlin
DTSTART:20110802T160000
DTEND:20110802T170000
LOCATION:TASK Schauspielschule für Kinder und Jugendliche \, Stresemannstraße 163 (Neue Flora) \, 22769 Hamburg
DTSTAMP:20260426T040630
SUMMARY:Piratentänze für 3- bis 4-Jährige  im SchauSpielgarten Hamburg
URL;VALUE=URI:https://www.kultur-hamburg.de/kurse_workshops/piratentaenze-fuer-3-bis-4-jaehrige-im-schauspielgarten-hamburg-38116
DESCRIPTION:Dieser Kurs fördert die Koordinationsfähigkeit mit viel Musik, Kindertanz & Theaterspiel und sinnlichen Erlebniswelten.
UID:f10c3635ed477088121b39f625ff48e1@kulturhamburg
END:VEVENT
END:VCALENDAR