BEGIN:VCALENDAR
VERSION:2.0
PRODID:-//STADTKULTUR HAMBURG//kultur-hamburg.de///DE
CALSCALE:GREGORIAN
BEGIN:VEVENT
X-WR-TIMEZONE:Europe/Berlin
DTSTART:20110916T190000
DTEND:20110916T200000
LOCATION:Bramfelder Kulturladen e. V. - BRAKULA \, Bramfelder Chaussee 265 \, 22177 Hamburg
DTSTAMP:20260425T174804
SUMMARY:Saxophon
URL;VALUE=URI:https://www.kultur-hamburg.de/kurse_workshops/saxophon-38209
DESCRIPTION:
UID:58447f7fb407380cf1f4876b5b221767@kulturhamburg
END:VEVENT
END:VCALENDAR