BEGIN:VCALENDAR
VERSION:2.0
PRODID:-//STADTKULTUR HAMBURG//kultur-hamburg.de///DE
CALSCALE:GREGORIAN
BEGIN:VEVENT
X-WR-TIMEZONE:Europe/Berlin
DTSTART:20110813T100000
DTEND:20110813T170000
LOCATION:KulturKlinker Barmbek e.V. \, Lorichsstraße 28 a \, 22307 Hamburg
DTSTAMP:20260426T021639
SUMMARY:Tai Chi Chuan – Workshop im August
URL;VALUE=URI:https://www.kultur-hamburg.de/kurse_workshops/tai-chi-chuan--workshop-im-august-38434
DESCRIPTION:Die Peking-Form eignet sich gut die Grundprinzipien des Tai Chi Chuan kennenzulernen.
UID:e388b0eff02743240a76b36ba71f8a58@kulturhamburg
END:VEVENT
END:VCALENDAR