BEGIN:VCALENDAR
VERSION:2.0
PRODID:-//STADTKULTUR HAMBURG//kultur-hamburg.de///DE
CALSCALE:GREGORIAN
BEGIN:VEVENT
X-WR-TIMEZONE:Europe/Berlin
DTSTART:20110910T100000
DTEND:20110910T170000
LOCATION:KulturKlinker Barmbek e.V. \, Lorichsstraße 28 a \, 22307 Hamburg
DTSTAMP:20260425T191616
SUMMARY:Ayurveda – Workshop im September
URL;VALUE=URI:https://www.kultur-hamburg.de/kurse_workshops/ayurveda--workshop-im-september-38435
DESCRIPTION:Ayurveda – Koch- und Lebenskunst von und mit Susanne Steinicke
UID:e2c25be4704fdb25d12f0558d6fa112f@kulturhamburg
END:VEVENT
END:VCALENDAR