BEGIN:VCALENDAR
VERSION:2.0
PRODID:-//STADTKULTUR HAMBURG//kultur-hamburg.de///DE
CALSCALE:GREGORIAN
BEGIN:VEVENT
X-WR-TIMEZONE:Europe/Berlin
DTSTART:20111008T110000
DTEND:20111008T170000
LOCATION:KulturKlinker Barmbek e.V. \, Lorichsstraße 28 a \, 22307 Hamburg
DTSTAMP:20260423T120746
SUMMARY:Impro-Theater – 2-Tage-Workshop im Oktober
URL;VALUE=URI:https://www.kultur-hamburg.de/kurse_workshops/impro-theater--2-tage-workshop-im-oktober-38439
DESCRIPTION:Mach Theater! Auf der Bühne stehen und spontan Geschichten erfinden; in viele verschiedene Rollen schlüpfen; der Fantasie freien Lauf lassen und immer wieder neue Seiten an sich selbst entdecken …
UID:ee689fe723b2a9bd5f7cdf73c7ecbbca@kulturhamburg
END:VEVENT
END:VCALENDAR