BEGIN:VCALENDAR
VERSION:2.0
PRODID:-//STADTKULTUR HAMBURG//kultur-hamburg.de///DE
CALSCALE:GREGORIAN
BEGIN:VEVENT
X-WR-TIMEZONE:Europe/Berlin
DTSTART:20190329T193000
DTEND:20190330T030000
LOCATION:Zinnschmelze \, Maurienstraße 19 \, 22305 Hamburg
DTSTAMP:20260421T231059
SUMMARY:Die große GeburtstagsFETE
URL;VALUE=URI:https://www.kultur-hamburg.de/veranstaltungen/die-grosse-geburtstagsfete-389213
DESCRIPTION:die Zinnschmelze wird 4 Jahre alt. Das ganze Haus feiert!
UID:d975a1ec0f516bb18c25910d94972b53@kulturhamburg
END:VEVENT
END:VCALENDAR