BEGIN:VCALENDAR
VERSION:2.0
PRODID:-//STADTKULTUR HAMBURG//kultur-hamburg.de///DE
CALSCALE:GREGORIAN
BEGIN:VEVENT
X-WR-TIMEZONE:Europe/Berlin
DTSTART:20110729T110000
DTEND:20110807T170000
LOCATION:TASK Schauspielschule für Kinder und Jugendliche \, Stresemannstraße 163 (Neue Flora) \, 22769 Hamburg
DTSTAMP:20260426T054905
SUMMARY:Wir drehen einen Film! Ferienworkshops ab 8 Jahre
URL;VALUE=URI:https://www.kultur-hamburg.de/kurse_workshops/wir-drehen-einen-film!-ferienworkshops-ab-8-jahre-38986
DESCRIPTION:
UID:fe0d72df5a04cbe395b04f812fd31946@kulturhamburg
END:VEVENT
END:VCALENDAR