BEGIN:VCALENDAR
VERSION:2.0
PRODID:-//STADTKULTUR HAMBURG//kultur-hamburg.de///DE
CALSCALE:GREGORIAN
BEGIN:VEVENT
X-WR-TIMEZONE:Europe/Berlin
DTSTART:20110801T110000
DTEND:20110810T170000
LOCATION:TASK Schauspielschule für Kinder und Jugendliche \, Stresemannstraße 163 (Neue Flora) \, 22769 Hamburg
DTSTAMP:20260426T040625
SUMMARY:Wir drehen einen Film! Ferienworkshops ab 8 Jahre
URL;VALUE=URI:https://www.kultur-hamburg.de/kurse_workshops/wir-drehen-einen-film!-ferienworkshops-ab-8-jahre-38987
DESCRIPTION:
UID:7886db68273f296f1d35e10c5b739f41@kulturhamburg
END:VEVENT
END:VCALENDAR