BEGIN:VCALENDAR
VERSION:2.0
PRODID:-//STADTKULTUR HAMBURG//kultur-hamburg.de///DE
CALSCALE:GREGORIAN
BEGIN:VEVENT
X-WR-TIMEZONE:Europe/Berlin
DTSTART:20110728T184500
DTEND:20110728T201500
LOCATION:Kulturladen St.Georg e.V. \, Alexanderstr.16 \, 20099 Hamburg
DTSTAMP:20260426T054840
SUMMARY:Arabisch Anfänger 3
URL;VALUE=URI:https://www.kultur-hamburg.de/kurse_workshops/arabisch-anfaenger-3-39001
DESCRIPTION:Arabisch Anfänger 3, Hocharabisch
UID:089b480d15d901b8ae49e0bdc5d7f2c0@kulturhamburg
END:VEVENT
END:VCALENDAR