BEGIN:VCALENDAR
VERSION:2.0
PRODID:-//STADTKULTUR HAMBURG//kultur-hamburg.de///DE
CALSCALE:GREGORIAN
BEGIN:VEVENT
X-WR-TIMEZONE:Europe/Berlin
DTSTART:20110818T184500
DTEND:20110818T201500
LOCATION:Kulturladen St.Georg e.V. \, Alexanderstr.16 \, 20099 Hamburg
DTSTAMP:20260426T002639
SUMMARY:Arabisch Anfänger 3
URL;VALUE=URI:https://www.kultur-hamburg.de/kurse_workshops/arabisch-anfaenger-3-39004
DESCRIPTION:Arabisch Anfänger 3, Hocharabisch
UID:744eec4027f2d6fc511719acfdf80f11@kulturhamburg
END:VEVENT
END:VCALENDAR