BEGIN:VCALENDAR
VERSION:2.0
PRODID:-//STADTKULTUR HAMBURG//kultur-hamburg.de///DE
CALSCALE:GREGORIAN
BEGIN:VEVENT
X-WR-TIMEZONE:Europe/Berlin
DTSTART:20110825T184500
DTEND:20110825T201500
LOCATION:Kulturladen St.Georg e.V. \, Alexanderstr.16 \, 20099 Hamburg
DTSTAMP:20260425T224548
SUMMARY:Arabisch Anfänger 3
URL;VALUE=URI:https://www.kultur-hamburg.de/kurse_workshops/arabisch-anfaenger-3-39005
DESCRIPTION:Arabisch Anfänger 3, Hocharabisch
UID:6098cb84c4190734740a8e4e1f86fee2@kulturhamburg
END:VEVENT
END:VCALENDAR