BEGIN:VCALENDAR
VERSION:2.0
PRODID:-//STADTKULTUR HAMBURG//kultur-hamburg.de///DE
CALSCALE:GREGORIAN
BEGIN:VEVENT
X-WR-TIMEZONE:Europe/Berlin
DTSTART:20110901T184500
DTEND:20110901T201500
LOCATION:Kulturladen St.Georg e.V. \, Alexanderstr.16 \, 20099 Hamburg
DTSTAMP:20260425T205841
SUMMARY:Arabisch Anfänger 3
URL;VALUE=URI:https://www.kultur-hamburg.de/kurse_workshops/arabisch-anfaenger-3-39006
DESCRIPTION:Arabisch Anfänger 3, Hocharabisch
UID:7e5d2673bd5244958dcc2b9c514a6e49@kulturhamburg
END:VEVENT
END:VCALENDAR