BEGIN:VCALENDAR
VERSION:2.0
PRODID:-//STADTKULTUR HAMBURG//kultur-hamburg.de///DE
CALSCALE:GREGORIAN
BEGIN:VEVENT
X-WR-TIMEZONE:Europe/Berlin
DTSTART:20110915T184500
DTEND:20110915T201500
LOCATION:Kulturladen St.Georg e.V. \, Alexanderstr.16 \, 20099 Hamburg
DTSTAMP:20260425T174024
SUMMARY:Arabisch Anfänger 3
URL;VALUE=URI:https://www.kultur-hamburg.de/kurse_workshops/arabisch-anfaenger-3-39008
DESCRIPTION:Arabisch Anfänger 3, Hocharabisch
UID:a81085118c826cdd2a0c49d43224f926@kulturhamburg
END:VEVENT
END:VCALENDAR