BEGIN:VCALENDAR
VERSION:2.0
PRODID:-//STADTKULTUR HAMBURG//kultur-hamburg.de///DE
CALSCALE:GREGORIAN
BEGIN:VEVENT
X-WR-TIMEZONE:Europe/Berlin
DTSTART:20190326T100000
DTEND:20190326T110000
LOCATION:FUNDUS THEATER \, Sievekingdamm 3 - Platz der Kinderrechte \, 20535 Hamburg
DTSTAMP:20260422T040936
SUMMARY:Hilde, Hans und ein bisschen Zwerg
URL;VALUE=URI:https://www.kultur-hamburg.de/veranstaltungen/hilde-hans-und-ein-bisschen-zwerg-393572
DESCRIPTION:Tandera Theater für Kinder ab 4 Jahre
UID:924b232065a17369d575fa81e32b35d0@kulturhamburg
END:VEVENT
END:VCALENDAR