BEGIN:VCALENDAR
VERSION:2.0
PRODID:-//STADTKULTUR HAMBURG//kultur-hamburg.de///DE
CALSCALE:GREGORIAN
BEGIN:VEVENT
X-WR-TIMEZONE:Europe/Berlin
DTSTART:20110824T183000
DTEND:20110824T200000
LOCATION:TASK Schauspielschule für Kinder und Jugendliche \, Stresemannstraße 163 (Neue Flora) \, 22769 Hamburg
DTSTAMP:20260425T224809
SUMMARY:Kostenlose Schauspiel-Schnupperstunde ab 10 J. - TASK Kinderschauspielschule
URL;VALUE=URI:https://www.kultur-hamburg.de/kurse_workshops/kostenlose-schauspiel-schnupperstunde-ab-10-j.-task-kinderschauspielschule-39924
DESCRIPTION:Anmelden und rauf auf die Bühne! Spaß macht's bestimmt!
UID:0a79fc3f6d3671e78958d4fb035223a7@kulturhamburg
END:VEVENT
END:VCALENDAR