BEGIN:VCALENDAR
VERSION:2.0
PRODID:-//STADTKULTUR HAMBURG//kultur-hamburg.de///DE
CALSCALE:GREGORIAN
BEGIN:VEVENT
X-WR-TIMEZONE:Europe/Berlin
DTSTART:20190323T150000
DTEND:20190323T163000
LOCATION:Jenisch Haus \, Baron-Voght-Str. 50 \, 22609 Hamburg
DTSTAMP:20260422T091340
SUMMARY:Marionettentheater: Der kleine Prinz
URL;VALUE=URI:https://www.kultur-hamburg.de/veranstaltungen/marionettentheater-der-kleine-prinz-402454
DESCRIPTION:
UID:3822f328cf16e37b1933ab07bd84be55@kulturhamburg
END:VEVENT
END:VCALENDAR