BEGIN:VCALENDAR
VERSION:2.0
PRODID:-//STADTKULTUR HAMBURG//kultur-hamburg.de///DE
CALSCALE:GREGORIAN
BEGIN:VEVENT
X-WR-TIMEZONE:Europe/Berlin
DTSTART:20190324T150000
DTEND:20190324T163000
LOCATION:Jenisch Haus \, Baron-Voght-Str. 50 \, 22609 Hamburg
DTSTAMP:20260422T072806
SUMMARY:Marionettentheater: Der kleine Prinz
URL;VALUE=URI:https://www.kultur-hamburg.de/veranstaltungen/marionettentheater-der-kleine-prinz-402455
DESCRIPTION:
UID:da81c3752afb866bdf259b5f13ac958a@kulturhamburg
END:VEVENT
END:VCALENDAR