BEGIN:VCALENDAR
VERSION:2.0
PRODID:-//STADTKULTUR HAMBURG//kultur-hamburg.de///DE
CALSCALE:GREGORIAN
BEGIN:VEVENT
X-WR-TIMEZONE:Europe/Berlin
DTSTART:20190330T150000
DTEND:20190330T163000
LOCATION:Jenisch Haus \, Baron-Voght-Str. 50 \, 22609 Hamburg
DTSTAMP:20260421T214040
SUMMARY:Marionettentheater: Der kleine Prinz
URL;VALUE=URI:https://www.kultur-hamburg.de/veranstaltungen/marionettentheater-der-kleine-prinz-402456
DESCRIPTION:
UID:e951d21e0900697ad8756de83a69d603@kulturhamburg
END:VEVENT
END:VCALENDAR