BEGIN:VCALENDAR
VERSION:2.0
PRODID:-//STADTKULTUR HAMBURG//kultur-hamburg.de///DE
CALSCALE:GREGORIAN
BEGIN:VEVENT
X-WR-TIMEZONE:Europe/Berlin
DTSTART:20190331T150000
DTEND:20190331T163000
LOCATION:Jenisch Haus \, Baron-Voght-Str. 50 \, 22609 Hamburg
DTSTAMP:20260421T200318
SUMMARY:Marionettentheater: Der kleine Prinz
URL;VALUE=URI:https://www.kultur-hamburg.de/veranstaltungen/marionettentheater-der-kleine-prinz-402457
DESCRIPTION:
UID:8b3556217c74773e8c14141740649d91@kulturhamburg
END:VEVENT
END:VCALENDAR