BEGIN:VCALENDAR
VERSION:2.0
PRODID:-//STADTKULTUR HAMBURG//kultur-hamburg.de///DE
CALSCALE:GREGORIAN
BEGIN:VEVENT
X-WR-TIMEZONE:Europe/Berlin
DTSTART:20110918T110000
DTEND:20110918T170000
LOCATION:TASK Schauspielschule für Kinder und Jugendliche \, Stresemannstraße 163 (Neue Flora) \, 22769 Hamburg
DTSTAMP:20260425T174024
SUMMARY:Camera Acting, Meisner Technik - Schauspielworkshop ab 14 J.
URL;VALUE=URI:https://www.kultur-hamburg.de/kurse_workshops/camera-acting-meisner-technik-schauspielworkshop-ab-14-j.-40484
DESCRIPTION:Ein Schauspielworkshop der TASK Schauspielschule für Fortgeschrittene.
UID:cbba5798519bd7fa2988e8109df5505b@kulturhamburg
END:VEVENT
END:VCALENDAR