BEGIN:VCALENDAR
VERSION:2.0
PRODID:-//STADTKULTUR HAMBURG//kultur-hamburg.de///DE
CALSCALE:GREGORIAN
BEGIN:VEVENT
X-WR-TIMEZONE:Europe/Berlin
DTSTART:20110925T110000
DTEND:20110925T150000
LOCATION:TASK Schauspielschule für Kinder und Jugendliche \, Stresemannstraße 163 (Neue Flora) \, 22769 Hamburg
DTSTAMP:20260425T154833
SUMMARY:Camera Acting für Minis (6 - 8 J.)
URL;VALUE=URI:https://www.kultur-hamburg.de/kurse_workshops/camera-acting-fuer-minis-6-8-j.-40485
DESCRIPTION:Von „Kamera ab – und bitte!“ bis „Gut! Und – Danke!“. Die Drehpraxis steht im Mittelpunkt dieses Workshops für die ganz jungen Schauspieler.
UID:b4f7a09173dfb8e76ad57357519026f2@kulturhamburg
END:VEVENT
END:VCALENDAR