BEGIN:VCALENDAR
VERSION:2.0
PRODID:-//STADTKULTUR HAMBURG//kultur-hamburg.de///DE
CALSCALE:GREGORIAN
BEGIN:VEVENT
X-WR-TIMEZONE:Europe/Berlin
DTSTART:20190321T190000
DTEND:20190321T220000
LOCATION:W3_ \, Nernstweg 32-34 \, 22765 Hamburg
DTSTAMP:20260422T122008
SUMMARY:Der Himmel über Persepolis
URL;VALUE=URI:https://www.kultur-hamburg.de/veranstaltungen/der-himmel-ueber-persepolis-406382
DESCRIPTION:Premiere: Multimediale Theaterperformance von und mit Graziella Schazad und Anatoly Zhivago
UID:a0a208c3bd5ee313458694b31b467304@kulturhamburg
END:VEVENT
END:VCALENDAR