BEGIN:VCALENDAR
VERSION:2.0
PRODID:-//STADTKULTUR HAMBURG//kultur-hamburg.de///DE
CALSCALE:GREGORIAN
BEGIN:VEVENT
X-WR-TIMEZONE:Europe/Berlin
DTSTART:20110914T183000
DTEND:20110914T200000
LOCATION:TASK Schauspielschule für Kinder und Jugendliche \, Stresemannstraße 163 (Neue Flora) \, 22769 Hamburg
DTSTAMP:20260425T173141
SUMMARY:Kostenlose Schauspiel-Schnupperstunden für Kinder und Jugendliche bei TASK Hamburg
URL;VALUE=URI:https://www.kultur-hamburg.de/kurse_workshops/kostenlose-schauspiel-schnupperstunden-fuer-kinder-und-jugendliche-bei-task-hamburg-40773
DESCRIPTION:Einfach anmelden und kostenlos schnuppern. Schauspielunterricht für Kinder und Jugendliche bei TASK
UID:7e709a87d00fff90cbb90a1e69897491@kulturhamburg
END:VEVENT
END:VCALENDAR