BEGIN:VCALENDAR
VERSION:2.0
PRODID:-//STADTKULTUR HAMBURG//kultur-hamburg.de///DE
CALSCALE:GREGORIAN
BEGIN:VEVENT
X-WR-TIMEZONE:Europe/Berlin
DTSTART:20110828T100000
DTEND:20110828T180000
LOCATION:Theaterwerkstatt Ludi \, Horner Weg 71 C \, 20535 Hamburg
DTSTAMP:20260425T224629
SUMMARY:Den Weg des Narren gehen
URL;VALUE=URI:https://www.kultur-hamburg.de/kurse_workshops/den-weg-des-narren-gehen-40947
DESCRIPTION:Imrovisationstheater & Selbsterfahrung
UID:6cc25e345c1ce693d0cbcafd6ba07650@kulturhamburg
END:VEVENT
END:VCALENDAR