BEGIN:VCALENDAR
VERSION:2.0
PRODID:-//STADTKULTUR HAMBURG//kultur-hamburg.de///DE
CALSCALE:GREGORIAN
BEGIN:VEVENT
X-WR-TIMEZONE:Europe/Berlin
DTSTART:20190321T193000
DTEND:20190321T220000
LOCATION:MOTTE VERANSTALTUNGEN \, Rothestraße 48 \, 22765 Hamburg
DTSTAMP:20260422T122003
SUMMARY:Textfabrique51 -  Lesebühne
URL;VALUE=URI:https://www.kultur-hamburg.de/veranstaltungen/textfabrique51-lesebuehne-409698
DESCRIPTION:
UID:ade12e8d8b1fc82f427cf0c86f9c2e2d@kulturhamburg
END:VEVENT
END:VCALENDAR