BEGIN:VCALENDAR
VERSION:2.0
PRODID:-//STADTKULTUR HAMBURG//kultur-hamburg.de///DE
CALSCALE:GREGORIAN
BEGIN:VEVENT
X-WR-TIMEZONE:Europe/Berlin
DTSTART:20190919T193000
DTEND:20190919T220000
LOCATION:MOTTE VERANSTALTUNGEN \, Rothestraße 48 \, 22765 Hamburg
DTSTAMP:20260424T022419
SUMMARY:Textfabrique51 -  Lesebühne
URL;VALUE=URI:https://www.kultur-hamburg.de/veranstaltungen/textfabrique51-lesebuehne-409704
DESCRIPTION:
UID:c21a81905b0af20ab1c96e1b2d9e2630@kulturhamburg
END:VEVENT
END:VCALENDAR