BEGIN:VCALENDAR
VERSION:2.0
PRODID:-//STADTKULTUR HAMBURG//kultur-hamburg.de///DE
CALSCALE:GREGORIAN
BEGIN:VEVENT
X-WR-TIMEZONE:Europe/Berlin
DTSTART:20191219T193000
DTEND:20191219T220000
LOCATION:MOTTE VERANSTALTUNGEN \, Rothestraße 48 \, 22765 Hamburg
DTSTAMP:20260422T103047
SUMMARY:Textfabrique51 -  Lesebühne
URL;VALUE=URI:https://www.kultur-hamburg.de/veranstaltungen/textfabrique51-lesebuehne-409707
DESCRIPTION:
UID:54bcf3f6c8d549c0604d89709efbbedd@kulturhamburg
END:VEVENT
END:VCALENDAR