BEGIN:VCALENDAR
VERSION:2.0
PRODID:-//STADTKULTUR HAMBURG//kultur-hamburg.de///DE
CALSCALE:GREGORIAN
BEGIN:VEVENT
X-WR-TIMEZONE:Europe/Berlin
DTSTART:20190918T190000
DTEND:20190918T210000
LOCATION:Auferstehungskirche \, Tieloh 26 \, 22305 Hamburg
DTSTAMP:20260424T005004
SUMMARY:StadtTeilGespräch Barmbek Nord:
URL;VALUE=URI:https://www.kultur-hamburg.de/veranstaltungen/stadtteilgespraech-barmbek-nord-410246
DESCRIPTION:Thema:  Gemeindefusion
Im Gemeindesaal, Tieloh 26
UID:c06a2d4221b0603c0d14da589ff1908a@kulturhamburg
END:VEVENT
END:VCALENDAR