BEGIN:VCALENDAR
VERSION:2.0
PRODID:-//STADTKULTUR HAMBURG//kultur-hamburg.de///DE
CALSCALE:GREGORIAN
BEGIN:VEVENT
X-WR-TIMEZONE:Europe/Berlin
DTSTART:20191228T220000
DTEND:20191229T040000
LOCATION:MOTTE VERANSTALTUNGEN \, Rothestraße 48 \, 22765 Hamburg
DTSTAMP:20260421T200333
SUMMARY:Northern Soul MOTTE Allnighter
URL;VALUE=URI:https://www.kultur-hamburg.de/veranstaltungen/northern-soul-motte-allnighter-410592
DESCRIPTION:If you are serious about Northern Soul, this is the place to be !!!
UID:2895ea5a017cd62228992e68be74d9b0@kulturhamburg
END:VEVENT
END:VCALENDAR