BEGIN:VCALENDAR
VERSION:2.0
PRODID:-//STADTKULTUR HAMBURG//kultur-hamburg.de///DE
CALSCALE:GREGORIAN
BEGIN:VEVENT
X-WR-TIMEZONE:Europe/Berlin
DTSTART:20190915T110000
DTEND:20190915T180000
LOCATION:Große Wallanlagen \, zwischen der Rollschuhbahn und dem hamburgmuseum (U-Bahn St. Pauli) \,  
DTSTAMP:20260423T202915
SUMMARY:Weltkinderfest
URL;VALUE=URI:https://www.kultur-hamburg.de/veranstaltungen/weltkinderfest-414385
DESCRIPTION:
UID:b4748cc6980d0e75b50c14ae56b2dd0c@kulturhamburg
END:VEVENT
END:VCALENDAR