BEGIN:VCALENDAR
VERSION:2.0
PRODID:-//STADTKULTUR HAMBURG//kultur-hamburg.de///DE
CALSCALE:GREGORIAN
BEGIN:VEVENT
X-WR-TIMEZONE:Europe/Berlin
DTSTART:20190403T100000
DTEND:20190403T123000
LOCATION:Lenzsiedlung e.V. \, Julius-Vosseler-Straße 193 \, 22527 Hamburg
DTSTAMP:20260421T152157
SUMMARY:Kambodscha
URL;VALUE=URI:https://www.kultur-hamburg.de/veranstaltungen/kambodscha-415520
DESCRIPTION:Frühstück mit interessanten Gästen
Kambodscha. Jahr für Jahr besuchen Millionen Touristen die berühmten Tempel der Khmer in Kambodscha. Sie pilgern zu den hundert Meter langen Steinreliefs von Angkor Wat, wagen sich unter die riesigen Gesichter des Gottkönigs und halten den Atem an angesichts mächtiger Baumwurzeln, die die Steinblöcke der Tempel wie Pappkatons zur Seite schieben.
Dietrich Schilling erzählt, zeigt Fotos und liest aus eigenen Geschichten.
UID:c76c7d7d235dff62c89596fca781bd37@kulturhamburg
END:VEVENT
END:VCALENDAR