BEGIN:VCALENDAR
VERSION:2.0
PRODID:-//STADTKULTUR HAMBURG//kultur-hamburg.de///DE
CALSCALE:GREGORIAN
BEGIN:VEVENT
X-WR-TIMEZONE:Europe/Berlin
DTSTART:20190328T200000
DTEND:20190328T213000
LOCATION:
DTSTAMP:20260422T003032
SUMMARY:Blindflug
URL;VALUE=URI:https://www.kultur-hamburg.de/veranstaltungen/blindflug-416647
DESCRIPTION:ein deutsch-türkischer Annäherungsversuch, Romeo und Julia 2018
UID:dca7f49ce39c130bb9e5580272c4617e@kulturhamburg
END:VEVENT
END:VCALENDAR