BEGIN:VCALENDAR
VERSION:2.0
PRODID:-//STADTKULTUR HAMBURG//kultur-hamburg.de///DE
CALSCALE:GREGORIAN
BEGIN:VEVENT
X-WR-TIMEZONE:Europe/Berlin
DTSTART:20190907T200000
DTEND:20190908T010000
LOCATION:KUNSTKLINIK \, Martinistraße 44a \, 20251 Hamburg
DTSTAMP:20260423T070248
SUMMARY:Tanzlaune
URL;VALUE=URI:https://www.kultur-hamburg.de/veranstaltungen/tanzlaune-417361
DESCRIPTION:
UID:0732117283811b78dcc007df1e2b6465@kulturhamburg
END:VEVENT
END:VCALENDAR