BEGIN:VCALENDAR
VERSION:2.0
PRODID:-//STADTKULTUR HAMBURG//kultur-hamburg.de///DE
CALSCALE:GREGORIAN
BEGIN:VEVENT
X-WR-TIMEZONE:Europe/Berlin
DTSTART:20190331T110000
DTEND:20190331T130000
LOCATION:Freizeitzentrum Schnelsen \, Wählingsallee 16 \, 22459 Hamburg
DTSTAMP:20260421T200318
SUMMARY:Schnelsen StomperS - der 279. Jazzfrühschoppe3
URL;VALUE=URI:https://www.kultur-hamburg.de/veranstaltungen/schnelsen-stompers-der-279.-jazzfruehschoppe3-417937
DESCRIPTION:Schnelsens unverwüstliche Kultband: ein Phänomen. Es gibt sie seit über 25 Jahren. In wechselnder Besetzung zwar, aber sich selbst immer treu geblieben. Und dem Freizeitzentrum. Sage und schreibe über 275 Mal sind sie bei uns aufgetreten, und mit jedem Monat wird es einmal mehr. Und jeden Monat etwas anders. Das ist wohl ein Rekord für die Ewigkeit. Jazzfrühschoppen mit den Schnelsen StomperS sind legendär. Und im Publikum gibt es sicher etliche Menschen, die nahezu jeden Jazzfrühschoppen miterlebt haben. Schnelsen und seine StomperS – das gehört zusammen wie Rolls und Royce.
UID:d4cfbe7043cc5219136c95f14acfdef8@kulturhamburg
END:VEVENT
END:VCALENDAR