BEGIN:VCALENDAR
VERSION:2.0
PRODID:-//STADTKULTUR HAMBURG//kultur-hamburg.de///DE
CALSCALE:GREGORIAN
BEGIN:VEVENT
X-WR-TIMEZONE:Europe/Berlin
DTSTART:20190331T170000
DTEND:20190331T190000
LOCATION:Freizeitzentrum Schnelsen \, Wählingsallee 16 \, 22459 Hamburg
DTSTAMP:20260421T200333
SUMMARY:Workshoppers - Laute(r) schöne Sachen
URL;VALUE=URI:https://www.kultur-hamburg.de/veranstaltungen/workshoppers-lauter-schoene-sachen-417938
DESCRIPTION:Ob laut oder leise, langsam oder schnell, alt oder neu, Die Workshoppers werden bei ihren Solostücken dem Publikum wieder mit Hingabe eine große Songvielfalt präsentieren. Beim Background- und Chor-Gesang zeigen sie, dass sich 9 prägnante Solostimmen zu schönen Harmonien zusammenfügen können, während die Musiker mit Klavier, E-Gitarre, Percussion und Bass, je nach Stimmung des Liedes, für druckvolle oder dezente Begleitung sorgen. So werden die schönen zu einer runden Sache!
UID:f70b78667f53d88ab65090a7a5015a5b@kulturhamburg
END:VEVENT
END:VCALENDAR